Package: SomaticSignatures Version: 2.45.1 Command: /Library/Frameworks/R.framework/Resources/bin/R CMD check --install=check:SomaticSignatures.install-out.txt --library=/Library/Frameworks/R.framework/Resources/library --no-vignettes --timings SomaticSignatures_2.45.1.tar.gz StartedAt: 2025-10-19 22:08:28 -0400 (Sun, 19 Oct 2025) EndedAt: 2025-10-19 22:11:17 -0400 (Sun, 19 Oct 2025) EllapsedTime: 168.9 seconds RetCode: 1 Status: ERROR CheckDir: SomaticSignatures.Rcheck Warnings: NA