Package: SmartPhos Version: 0.99.30 Command: /home/biocbuild/R/R/bin/R CMD INSTALL SmartPhos StartedAt: 2025-10-23 21:00:30 -0000 (Thu, 23 Oct 2025) EndedAt: 2025-10-23 21:01:12 -0000 (Thu, 23 Oct 2025) EllapsedTime: 42.1 seconds RetCode: 0 Status: OK