Package: SmartPhos Version: 1.0.0 Command: /home/biocbuild/bbs-3.22-bioc/R/bin/R CMD INSTALL SmartPhos StartedAt: 2025-11-05 15:45:26 -0500 (Wed, 05 Nov 2025) EndedAt: 2025-11-05 15:45:58 -0500 (Wed, 05 Nov 2025) EllapsedTime: 32.5 seconds RetCode: 0 Status: OK