Package: SmartPhos Version: 1.0.0 Command: /home/biocbuild/bbs-3.22-bioc/R/bin/R CMD build --keep-empty-dirs --no-resave-data --md5 SmartPhos StartedAt: 2025-11-05 20:18:39 -0500 (Wed, 05 Nov 2025) EndedAt: 2025-11-05 20:20:26 -0500 (Wed, 05 Nov 2025) EllapsedTime: 107.1 seconds RetCode: 0 Status: OK PackageFile: SmartPhos_1.0.0.tar.gz PackageFileSize: 20.23 MiB