Package: SmartPhos Version: 1.0.0 Command: rm -rf SmartPhos.buildbin-libdir && mkdir SmartPhos.buildbin-libdir && /Users/biocbuild/BBS/utils/build-universal.sh SmartPhos_1.0.0.tar.gz /Library/Frameworks/R.framework/Resources/bin/R SmartPhos.buildbin-libdir StartedAt: 2025-11-04 02:05:20 -0500 (Tue, 04 Nov 2025) EndedAt: 2025-11-04 02:06:14 -0500 (Tue, 04 Nov 2025) EllapsedTime: 54.1 seconds RetCode: 0 Status: OK PackageFile: SmartPhos_1.0.0.tgz PackageFileSize: 13.32 MiB