Package: SmartPhos Version: 1.0.0 Command: /Library/Frameworks/R.framework/Resources/bin/R CMD check --install=check:SmartPhos.install-out.txt --library=/Library/Frameworks/R.framework/Resources/library --no-vignettes --timings SmartPhos_1.0.0.tar.gz StartedAt: 2025-11-06 22:11:14 -0500 (Thu, 06 Nov 2025) EndedAt: 2025-11-06 22:13:17 -0500 (Thu, 06 Nov 2025) EllapsedTime: 122.4 seconds RetCode: 0 Status: OK CheckDir: SmartPhos.Rcheck Warnings: 0