Package: SmartPhos Version: 1.0.0 Maintainer: Shubham Agrawal MaintainerEmail: shubhamagrawal2706 at gmail.com git_url: https://git.bioconductor.org/packages/SmartPhos git_branch: RELEASE_3_22 git_last_commit: a7a52e6 git_last_commit_date: 2025-10-29 11:38:54 -0400 (Wed, 29 Oct 2025)