Package: SingleMoleculeFootprinting Version: 2.3.2 Command: rm -rf SingleMoleculeFootprinting.buildbin-libdir && mkdir SingleMoleculeFootprinting.buildbin-libdir && F:\biocbuild\bbs-3.22-bioc\R\bin\R.exe CMD INSTALL --build --library=SingleMoleculeFootprinting.buildbin-libdir SingleMoleculeFootprinting_2.3.2.tar.gz StartedAt: 2025-08-15 11:20:52 -0400 (Fri, 15 Aug 2025) EndedAt: 2025-08-15 11:32:09 -0400 (Fri, 15 Aug 2025) EllapsedTime: 676.5 seconds RetCode: 0 Status: OK PackageFile: SingleMoleculeFootprinting_2.3.2.zip PackageFileSize: 3.341 MiB