Package: SingleCellAlleleExperiment Version: 1.5.0 Command: chmod a+r SingleCellAlleleExperiment -R && F:\biocbuild\bbs-3.22-bioc\R\bin\R.exe CMD build --keep-empty-dirs --no-resave-data SingleCellAlleleExperiment StartedAt: 2025-08-14 23:19:37 -0400 (Thu, 14 Aug 2025) EndedAt: 2025-08-14 23:20:41 -0400 (Thu, 14 Aug 2025) EllapsedTime: 63.0 seconds RetCode: 1 Status: ERROR PackageFile: None PackageFileSize: NA