Package: SimFFPE Version: 1.21.0 Command: /home/biocbuild/R/R/bin/R CMD INSTALL SimFFPE StartedAt: 2025-09-29 20:48:24 -0000 (Mon, 29 Sep 2025) EndedAt: 2025-09-29 20:48:41 -0000 (Mon, 29 Sep 2025) EllapsedTime: 17.5 seconds RetCode: 0 Status: OK