Package: SimFFPE Version: 1.21.0 Command: rm -rf SimFFPE.buildbin-libdir && mkdir SimFFPE.buildbin-libdir && /Users/biocbuild/BBS/utils/build-universal.sh SimFFPE_1.21.0.tar.gz /Library/Frameworks/R.framework/Resources/bin/R SimFFPE.buildbin-libdir StartedAt: 2025-10-17 23:26:01 -0400 (Fri, 17 Oct 2025) EndedAt: 2025-10-17 23:26:07 -0400 (Fri, 17 Oct 2025) EllapsedTime: 6.1 seconds RetCode: 0 Status: OK PackageFile: SimFFPE_1.21.0.tgz PackageFileSize: 807.6 KiB