Package: SigsPack Version: 1.23.0 Command: chmod a+r SigsPack -R && F:\biocbuild\bbs-3.22-bioc\R\bin\R.exe CMD build --keep-empty-dirs --no-resave-data SigsPack StartedAt: 2025-08-14 23:18:23 -0400 (Thu, 14 Aug 2025) EndedAt: 2025-08-14 23:23:58 -0400 (Thu, 14 Aug 2025) EllapsedTime: 334.8 seconds RetCode: 0 Status: OK PackageFile: SigsPack_1.23.0.tar.gz PackageFileSize: 460.7 KiB