Package: SigsPack Version: 1.24.0 Command: rm -rf SigsPack.buildbin-libdir && mkdir SigsPack.buildbin-libdir && /Users/biocbuild/BBS/utils/build-universal.sh SigsPack_1.24.0.tar.gz /Library/Frameworks/R.framework/Resources/bin/R SigsPack.buildbin-libdir StartedAt: 2025-11-01 01:58:25 -0400 (Sat, 01 Nov 2025) EndedAt: 2025-11-01 01:58:33 -0400 (Sat, 01 Nov 2025) EllapsedTime: 8.1 seconds RetCode: 0 Status: OK PackageFile: SigsPack_1.24.0.tgz PackageFileSize: 538.4 KiB