Package: SigsPack Version: 1.24.0 Command: /Library/Frameworks/R.framework/Resources/bin/R CMD check --install=check:SigsPack.install-out.txt --library=/Library/Frameworks/R.framework/Resources/library --no-vignettes --timings SigsPack_1.24.0.tar.gz StartedAt: 2025-10-31 22:09:07 -0400 (Fri, 31 Oct 2025) EndedAt: 2025-10-31 22:10:16 -0400 (Fri, 31 Oct 2025) EllapsedTime: 68.9 seconds RetCode: 0 Status: OK CheckDir: SigsPack.Rcheck Warnings: 0