Package: SigsPack Version: 1.24.0 Command: /Library/Frameworks/R.framework/Resources/bin/R CMD build --keep-empty-dirs --no-resave-data SigsPack StartedAt: 2025-10-31 17:49:06 -0400 (Fri, 31 Oct 2025) EndedAt: 2025-10-31 17:49:54 -0400 (Fri, 31 Oct 2025) EllapsedTime: 47.6 seconds RetCode: 0 Status: OK PackageFile: SigsPack_1.24.0.tar.gz PackageFileSize: 530.9 KiB