Package: SigsPack Version: 1.24.0 Command: rm -rf SigsPack.buildbin-libdir && mkdir SigsPack.buildbin-libdir && /Users/biocbuild/BBS/utils/build-universal.sh SigsPack_1.24.0.tar.gz /Library/Frameworks/R.framework/Resources/bin/R SigsPack.buildbin-libdir StartedAt: 2025-11-02 23:21:55 -0500 (Sun, 02 Nov 2025) EndedAt: 2025-11-02 23:21:57 -0500 (Sun, 02 Nov 2025) EllapsedTime: 2.0 seconds RetCode: 0 Status: OK PackageFile: SigsPack_1.24.0.tgz PackageFileSize: 544.3 KiB