Package: SigFuge Version: 1.47.0 Command: /Library/Frameworks/R.framework/Resources/bin/R CMD INSTALL SigFuge StartedAt: 2025-10-03 15:28:03 -0400 (Fri, 03 Oct 2025) EndedAt: 2025-10-03 15:28:22 -0400 (Fri, 03 Oct 2025) EllapsedTime: 18.5 seconds RetCode: 0 Status: OK