Package: SigFuge Version: 1.47.0 Command: /Library/Frameworks/R.framework/Resources/bin/R CMD INSTALL SigFuge StartedAt: 2025-10-12 15:17:36 -0400 (Sun, 12 Oct 2025) EndedAt: 2025-10-12 15:17:42 -0400 (Sun, 12 Oct 2025) EllapsedTime: 5.3 seconds RetCode: 0 Status: OK