Package: SigFuge Version: 1.47.0 Command: /Library/Frameworks/R.framework/Resources/bin/R CMD build --keep-empty-dirs --no-resave-data SigFuge StartedAt: 2025-10-12 17:41:17 -0400 (Sun, 12 Oct 2025) EndedAt: 2025-10-12 17:41:34 -0400 (Sun, 12 Oct 2025) EllapsedTime: 17.2 seconds RetCode: 1 Status: ERROR PackageFile: None PackageFileSize: NA