Package: Seqinfo Version: 0.99.3 Command: /Library/Frameworks/R.framework/Resources/bin/R CMD INSTALL Seqinfo StartedAt: 2025-10-22 15:16:57 -0400 (Wed, 22 Oct 2025) EndedAt: 2025-10-22 15:17:10 -0400 (Wed, 22 Oct 2025) EllapsedTime: 13.0 seconds RetCode: 0 Status: OK