Package: Seqinfo Version: 0.99.3 Command: /Library/Frameworks/R.framework/Resources/bin/R CMD check --install=check:Seqinfo.install-out.txt --library=/Library/Frameworks/R.framework/Resources/library --no-vignettes --timings Seqinfo_0.99.3.tar.gz StartedAt: 2025-10-23 00:07:12 -0400 (Thu, 23 Oct 2025) EndedAt: 2025-10-23 00:08:38 -0400 (Thu, 23 Oct 2025) EllapsedTime: 86.1 seconds RetCode: 0 Status: OK CheckDir: Seqinfo.Rcheck Warnings: 0