Package: Seqinfo Version: 0.99.3 Command: /Library/Frameworks/R.framework/Resources/bin/R CMD build --keep-empty-dirs --no-resave-data Seqinfo StartedAt: 2025-10-22 18:40:02 -0400 (Wed, 22 Oct 2025) EndedAt: 2025-10-22 18:40:32 -0400 (Wed, 22 Oct 2025) EllapsedTime: 29.6 seconds RetCode: 0 Status: OK PackageFile: Seqinfo_0.99.3.tar.gz PackageFileSize: 247.4 KiB