Package: Seqinfo Version: 0.99.3 Command: /Library/Frameworks/R.framework/Resources/bin/R CMD build --keep-empty-dirs --no-resave-data Seqinfo StartedAt: 2025-10-23 17:47:41 -0400 (Thu, 23 Oct 2025) EndedAt: 2025-10-23 17:47:52 -0400 (Thu, 23 Oct 2025) EllapsedTime: 11.1 seconds RetCode: 0 Status: OK PackageFile: Seqinfo_0.99.3.tar.gz PackageFileSize: 247.5 KiB