Package: Seqinfo Version: 0.99.3 Command: rm -rf Seqinfo.buildbin-libdir && mkdir Seqinfo.buildbin-libdir && /Users/biocbuild/BBS/utils/build-universal.sh Seqinfo_0.99.3.tar.gz /Library/Frameworks/R.framework/Resources/bin/R Seqinfo.buildbin-libdir StartedAt: 2025-10-22 23:17:09 -0400 (Wed, 22 Oct 2025) EndedAt: 2025-10-22 23:17:13 -0400 (Wed, 22 Oct 2025) EllapsedTime: 4.1 seconds RetCode: 0 Status: OK PackageFile: Seqinfo_0.99.3.tgz PackageFileSize: 626.1 KiB