Package: SemDist Version: 1.43.0 Command: /home/biocbuild/R/R/bin/R CMD INSTALL SemDist StartedAt: 2025-10-20 21:10:09 -0000 (Mon, 20 Oct 2025) EndedAt: 2025-10-20 21:10:28 -0000 (Mon, 20 Oct 2025) EllapsedTime: 18.3 seconds RetCode: 0 Status: OK