Package: SemDist Version: 1.43.0 Command: /home/biocbuild/R/R/bin/R CMD check --install=check:SemDist.install-out.txt --library=/home/biocbuild/R/R/site-library --no-vignettes --timings SemDist_1.43.0.tar.gz StartedAt: 2025-10-17 13:31:38 -0000 (Fri, 17 Oct 2025) EndedAt: 2025-10-17 13:35:00 -0000 (Fri, 17 Oct 2025) EllapsedTime: 202.3 seconds RetCode: 0 Status: OK CheckDir: SemDist.Rcheck Warnings: 0