Package: SemDist Version: 1.43.0 Command: /home/biocbuild/R/R/bin/R CMD build --keep-empty-dirs --no-resave-data SemDist StartedAt: 2025-10-21 03:05:07 -0000 (Tue, 21 Oct 2025) EndedAt: 2025-10-21 03:05:51 -0000 (Tue, 21 Oct 2025) EllapsedTime: 44.0 seconds RetCode: 0 Status: OK PackageFile: SemDist_1.43.0.tar.gz PackageFileSize: 1.943 MiB