Package: SemDist Version: 1.43.0 Command: /home/biocbuild/bbs-3.22-bioc/R/bin/R CMD INSTALL SemDist StartedAt: 2025-10-19 15:43:51 -0400 (Sun, 19 Oct 2025) EndedAt: 2025-10-19 15:44:04 -0400 (Sun, 19 Oct 2025) EllapsedTime: 13.4 seconds RetCode: 0 Status: OK