Package: SemDist Version: 1.43.0 Command: /home/biocbuild/bbs-3.22-bioc/R/bin/R CMD check --install=check:SemDist.install-out.txt --library=/home/biocbuild/bbs-3.22-bioc/R/site-library --timings SemDist_1.43.0.tar.gz StartedAt: 2025-10-20 04:43:50 -0400 (Mon, 20 Oct 2025) EndedAt: 2025-10-20 04:46:18 -0400 (Mon, 20 Oct 2025) EllapsedTime: 148.2 seconds RetCode: 0 Status: OK CheckDir: SemDist.Rcheck Warnings: 0