Package: SemDist Version: 1.43.0 Command: /Library/Frameworks/R.framework/Resources/bin/R CMD INSTALL SemDist StartedAt: 2025-10-19 15:36:34 -0400 (Sun, 19 Oct 2025) EndedAt: 2025-10-19 15:36:55 -0400 (Sun, 19 Oct 2025) EllapsedTime: 21.4 seconds RetCode: 0 Status: OK