Package: SemDist Version: 1.43.0 Command: /Library/Frameworks/R.framework/Resources/bin/R CMD build --keep-empty-dirs --no-resave-data SemDist StartedAt: 2025-10-19 19:24:56 -0400 (Sun, 19 Oct 2025) EndedAt: 2025-10-19 19:25:55 -0400 (Sun, 19 Oct 2025) EllapsedTime: 58.9 seconds RetCode: 0 Status: OK PackageFile: SemDist_1.43.0.tar.gz PackageFileSize: 1.953 MiB