Package: Sconify Version: 1.29.1 Command: /home/biocbuild/R/R/bin/R CMD build --keep-empty-dirs --no-resave-data Sconify StartedAt: 2025-10-17 04:25:44 -0000 (Fri, 17 Oct 2025) EndedAt: 2025-10-17 04:26:31 -0000 (Fri, 17 Oct 2025) EllapsedTime: 47.0 seconds RetCode: 0 Status: OK PackageFile: Sconify_1.29.1.tar.gz PackageFileSize: 4.288 MiB