Package: Sconify Version: 1.29.0 Command: F:\biocbuild\bbs-3.22-bioc\R\bin\R.exe CMD check --no-multiarch --install=check:Sconify.install-out.txt --library=F:\biocbuild\bbs-3.22-bioc\R\library --no-vignettes --timings Sconify_1.29.0.tar.gz StartedAt: 2025-08-15 07:37:39 -0400 (Fri, 15 Aug 2025) EndedAt: 2025-08-15 07:39:53 -0400 (Fri, 15 Aug 2025) EllapsedTime: 133.9 seconds RetCode: 0 Status: OK CheckDir: Sconify.Rcheck Warnings: 0