Package: Sconify Version: 1.29.0 Command: chmod a+r Sconify -R && F:\biocbuild\bbs-3.22-bioc\R\bin\R.exe CMD build --keep-empty-dirs --no-resave-data Sconify StartedAt: 2025-08-14 23:06:24 -0400 (Thu, 14 Aug 2025) EndedAt: 2025-08-14 23:07:43 -0400 (Thu, 14 Aug 2025) EllapsedTime: 79.4 seconds RetCode: 0 Status: OK PackageFile: Sconify_1.29.0.tar.gz PackageFileSize: 4.379 MiB