Package: Sconify Version: 1.29.1 Command: /home/biocbuild/bbs-3.22-bioc/R/bin/R CMD INSTALL Sconify StartedAt: 2025-10-19 15:14:45 -0400 (Sun, 19 Oct 2025) EndedAt: 2025-10-19 15:14:54 -0400 (Sun, 19 Oct 2025) EllapsedTime: 9.6 seconds RetCode: 0 Status: OK