Package: Sconify Version: 1.29.1 Command: /Library/Frameworks/R.framework/Resources/bin/R CMD INSTALL Sconify StartedAt: 2025-10-19 15:17:20 -0400 (Sun, 19 Oct 2025) EndedAt: 2025-10-19 15:17:39 -0400 (Sun, 19 Oct 2025) EllapsedTime: 18.5 seconds RetCode: 0 Status: OK