Package: Sconify Version: 1.29.1 Command: /Library/Frameworks/R.framework/Resources/bin/R CMD check --install=check:Sconify.install-out.txt --library=/Library/Frameworks/R.framework/Resources/library --no-vignettes --timings Sconify_1.29.1.tar.gz StartedAt: 2025-10-20 01:32:07 -0400 (Mon, 20 Oct 2025) EndedAt: 2025-10-20 01:34:18 -0400 (Mon, 20 Oct 2025) EllapsedTime: 131.9 seconds RetCode: 0 Status: OK CheckDir: Sconify.Rcheck Warnings: 0