Package: Sconify Version: 1.29.1 Command: /Library/Frameworks/R.framework/Resources/bin/R CMD build --keep-empty-dirs --no-resave-data Sconify StartedAt: 2025-10-19 19:19:34 -0400 (Sun, 19 Oct 2025) EndedAt: 2025-10-19 19:20:33 -0400 (Sun, 19 Oct 2025) EllapsedTime: 59.7 seconds RetCode: 0 Status: OK PackageFile: Sconify_1.29.1.tar.gz PackageFileSize: 4.337 MiB