Package: Sconify Version: 1.29.1 Command: rm -rf Sconify.buildbin-libdir && mkdir Sconify.buildbin-libdir && /Users/biocbuild/BBS/utils/build-universal.sh Sconify_1.29.1.tar.gz /Library/Frameworks/R.framework/Resources/bin/R Sconify.buildbin-libdir StartedAt: 2025-10-20 03:32:34 -0400 (Mon, 20 Oct 2025) EndedAt: 2025-10-20 03:32:54 -0400 (Mon, 20 Oct 2025) EllapsedTime: 20.6 seconds RetCode: 0 Status: OK PackageFile: Sconify_1.29.1.tgz PackageFileSize: 3.061 MiB