Package: Sconify Version: 1.29.1 Command: /Library/Frameworks/R.framework/Resources/bin/R CMD INSTALL Sconify StartedAt: 2025-10-19 15:07:21 -0400 (Sun, 19 Oct 2025) EndedAt: 2025-10-19 15:07:25 -0400 (Sun, 19 Oct 2025) EllapsedTime: 4.0 seconds RetCode: 0 Status: OK