Package: Scale4C Version: 1.31.1 Command: /home/biocbuild/R/R/bin/R CMD INSTALL Scale4C StartedAt: 2025-10-16 21:30:47 -0000 (Thu, 16 Oct 2025) EndedAt: 2025-10-16 21:31:20 -0000 (Thu, 16 Oct 2025) EllapsedTime: 32.6 seconds RetCode: 0 Status: OK