Package: Scale4C Version: 1.31.1 Command: /home/biocbuild/R/R/bin/R CMD check --install=check:Scale4C.install-out.txt --library=/home/biocbuild/R/R/site-library --no-vignettes --timings Scale4C_1.31.1.tar.gz StartedAt: 2025-10-17 13:10:51 -0000 (Fri, 17 Oct 2025) EndedAt: 2025-10-17 13:14:24 -0000 (Fri, 17 Oct 2025) EllapsedTime: 213.3 seconds RetCode: 0 Status: OK CheckDir: Scale4C.Rcheck Warnings: 0