Package: Scale4C Version: 1.32.0 Command: /home/biocbuild/bbs-3.22-bioc/R/bin/R CMD INSTALL Scale4C StartedAt: 2025-11-17 17:25:32 -0500 (Mon, 17 Nov 2025) EndedAt: 2025-11-17 17:25:56 -0500 (Mon, 17 Nov 2025) EllapsedTime: 24.4 seconds RetCode: 0 Status: OK