Package: Scale4C Version: 1.32.0 Command: /home/biocbuild/bbs-3.22-bioc/R/bin/R CMD build --keep-empty-dirs --no-resave-data --md5 Scale4C StartedAt: 2025-11-17 23:13:45 -0500 (Mon, 17 Nov 2025) EndedAt: 2025-11-17 23:15:18 -0500 (Mon, 17 Nov 2025) EllapsedTime: 93.1 seconds RetCode: 0 Status: OK PackageFile: Scale4C_1.32.0.tar.gz PackageFileSize: 4.88 MiB