Package: Scale4C Version: 1.32.0 Command: /Library/Frameworks/R.framework/Resources/bin/R CMD check --install=check:Scale4C.install-out.txt --library=/Library/Frameworks/R.framework/Resources/library --no-vignettes --timings Scale4C_1.32.0.tar.gz StartedAt: 2025-11-18 13:46:55 -0500 (Tue, 18 Nov 2025) EndedAt: 2025-11-18 13:57:09 -0500 (Tue, 18 Nov 2025) EllapsedTime: 614.0 seconds RetCode: 0 Status: OK CheckDir: Scale4C.Rcheck Warnings: 0