Package: Scale4C Version: 1.32.0 Command: /Library/Frameworks/R.framework/Resources/bin/R CMD INSTALL Scale4C StartedAt: 2025-11-10 15:11:50 -0500 (Mon, 10 Nov 2025) EndedAt: 2025-11-10 15:12:00 -0500 (Mon, 10 Nov 2025) EllapsedTime: 10.0 seconds RetCode: 0 Status: OK