Package: SanityR Version: 0.99.3 Command: chmod a+r SanityR -R && F:\biocbuild\bbs-3.22-bioc\R\bin\R.exe CMD build --keep-empty-dirs --no-resave-data SanityR StartedAt: 2025-08-14 22:58:09 -0400 (Thu, 14 Aug 2025) EndedAt: 2025-08-14 23:01:37 -0400 (Thu, 14 Aug 2025) EllapsedTime: 208.0 seconds RetCode: 0 Status: OK PackageFile: SanityR_0.99.3.tar.gz PackageFileSize: 501.4 KiB