Package: SanityR Version: 0.99.3 Command: rm -rf SanityR.buildbin-libdir && mkdir SanityR.buildbin-libdir && F:\biocbuild\bbs-3.22-bioc\R\bin\R.exe CMD INSTALL --build --library=SanityR.buildbin-libdir SanityR_0.99.3.tar.gz StartedAt: 2025-08-15 11:13:06 -0400 (Fri, 15 Aug 2025) EndedAt: 2025-08-15 11:13:47 -0400 (Fri, 15 Aug 2025) EllapsedTime: 41.4 seconds RetCode: 0 Status: OK PackageFile: SanityR_0.99.3.zip PackageFileSize: 875.7 KiB