Package: SVP Version: 1.2.1 Command: /Library/Frameworks/R.framework/Resources/bin/R CMD check --install=check:SVP.install-out.txt --library=/Library/Frameworks/R.framework/Resources/library --no-vignettes --timings SVP_1.2.1.tar.gz StartedAt: 2025-11-18 15:40:44 -0500 (Tue, 18 Nov 2025) EndedAt: 2025-11-18 15:50:52 -0500 (Tue, 18 Nov 2025) EllapsedTime: 607.7 seconds RetCode: 0 Status: OK CheckDir: SVP.Rcheck Warnings: 0