Package: SVP Version: 1.2.1 Command: /Library/Frameworks/R.framework/Resources/bin/R CMD INSTALL SVP StartedAt: 2025-11-03 15:26:30 -0500 (Mon, 03 Nov 2025) EndedAt: 2025-11-03 15:29:22 -0500 (Mon, 03 Nov 2025) EllapsedTime: 171.2 seconds RetCode: 0 Status: OK